BEGIN:VCALENDAR
VERSION:2.0
PRODID:-//Tukios.com/
BEGIN:VEVENT
UID:015d39a9-01f0-4e05-8194-bc27afb51ebc@www.robinsonfuneralhome.com
DTSTAMP:20260420T054706Z
DTSTART:20260425T160000Z
DTEND:20260425T170000Z
SUMMARY:Funeral Service
DESCRIPTION:
URL:https://www.robinsonfuneralhome.com/obituaries/judith-kee
LOCATION:Robinson Funeral Home, Inc. 809 Main Street  Melrose MA 02176
GEO:42.4622056;-71.0618713
END:VEVENT
END:VCALENDAR