BEGIN:VCALENDAR
VERSION:2.0
PRODID:-//Tukios.com/
BEGIN:VEVENT
UID:a2137f34-2e5f-4b09-b2fa-622c59ae8f89@www.robinsonfuneralhome.com
DTSTAMP:20260420T054924Z
DTSTART:20260425T140000Z
DTEND:20260425T160000Z
SUMMARY:Visitation
DESCRIPTION:
URL:https://www.robinsonfuneralhome.com/obituaries/judith-kee
LOCATION:Robinson Funeral Home, Inc. 809 Main Street  Melrose MA 02176
GEO:42.4622056;-71.0618713
END:VEVENT
END:VCALENDAR