BEGIN:VCALENDAR
VERSION:2.0
PRODID:-//Tukios.com/
BEGIN:VEVENT
UID:bc5b7590-0245-4037-ac86-1c3800f23c09@www.robinsonfuneralhome.com
DTSTAMP:20260425T201956Z
DTSTART:20260430
SUMMARY:Interment
DESCRIPTION:
URL:https://www.robinsonfuneralhome.com/obituaries/florence-lundstrom
LOCATION: 205 Sylvan Street  Melrose MA 02176
GEO:42.4463857;-71.0599213
END:VEVENT
END:VCALENDAR