BEGIN:VCALENDAR
VERSION:2.0
PRODID:-//Tukios.com/
BEGIN:VEVENT
UID:c13ee3c0-fd1f-4056-83ba-ec224333ff99@www.robinsonfuneralhome.com
DTSTAMP:20260425T201218Z
DTSTART:20260430T170000Z
DTEND:20260430T180000Z
SUMMARY:Funeral Service
DESCRIPTION:
URL:https://www.robinsonfuneralhome.com/obituaries/florence-lundstrom
LOCATION:First Lutheran Church, Malden 62 Church Street  Malden MA 02148
GEO:42.4317921;-71.0413911
END:VEVENT
END:VCALENDAR